BEGIN:VCALENDAR
VERSION:2.0
PRODID:Aniversário Associação Cultural e Desportiva Aldeense
X-WR-CALNAME:Aniversário Associação Cultural e Desportiva Aldeense
X-WR-TIMEZONE:Europe/Lisbon
X-PUBLISHED-TTL:P1W
BEGIN:VTIMEZONE
TZID:Europe/Lisbon
X-LIC-LOCATION:Europe/Lisbon
END:VTIMEZONE
BEGIN:VEVENT
UID:69ecfd21e8a11
DTSTART;VALUE=DATE:19270217
SEQUENCE:0
TRANSP:OPAQUE
DTEND;VALUE=DATE:19270218
SUMMARY:Aniversário Associação Cultural e Desportiva Aldeense
CLASS:PUBLIC
DESCRIPTION:Muitos parabéns a esta instituição por mais um aniversário.
  Contém muitos anos.
X-MICROSOFT-CDO-ALLDAYEVENT:TRUE
DTSTAMP:20260425T174257Z
END:VEVENT
END:VCALENDAR