BEGIN:VCALENDAR
VERSION:2.0
PRODID:Aniversário Liga Humanitária Social e Cultural de Aldeias
X-WR-CALNAME:Aniversário Liga Humanitária Social e Cultural de Aldeias
X-WR-TIMEZONE:Europe/Lisbon
X-PUBLISHED-TTL:P1W
BEGIN:VTIMEZONE
TZID:Europe/Lisbon
X-LIC-LOCATION:Europe/Lisbon
END:VTIMEZONE
BEGIN:VEVENT
UID:69ecfad0ae11b
DTSTART;VALUE=DATE:19871029
SEQUENCE:0
TRANSP:OPAQUE
DTEND;VALUE=DATE:19871030
SUMMARY:Aniversário Liga Humanitária Social e Cultural de Aldeias
CLASS:PUBLIC
DESCRIPTION:Muitos parabéns a esta instituição por mais um aniversário.
  Contém muitos anos.
X-MICROSOFT-CDO-ALLDAYEVENT:TRUE
DTSTAMP:20260425T173304Z
END:VEVENT
END:VCALENDAR