BEGIN:VCALENDAR
VERSION:2.0
PRODID:Aniversário Clube Desportivo Popular Aldeense
X-WR-CALNAME:Aniversário Clube Desportivo Popular Aldeense
X-WR-TIMEZONE:Europe/Lisbon
X-PUBLISHED-TTL:P1W
BEGIN:VTIMEZONE
TZID:Europe/Lisbon
X-LIC-LOCATION:Europe/Lisbon
END:VTIMEZONE
BEGIN:VEVENT
UID:69ecfcca336c2
DTSTART;VALUE=DATE:19460430
SEQUENCE:0
TRANSP:OPAQUE
DTEND;VALUE=DATE:19460501
SUMMARY:Aniversário Clube Desportivo Popular Aldeense
CLASS:PUBLIC
DESCRIPTION:Muitos parabéns a esta instituição por mais um aniversário.
  Contém muitos anos.
X-MICROSOFT-CDO-ALLDAYEVENT:TRUE
DTSTAMP:20260425T174130Z
END:VEVENT
END:VCALENDAR